BEGIN:VCALENDAR
VERSION:2.0
PRODID:-//wp-events-plugin.com//7.2.3.1//EN
TZID:Asia/Tokyo
X-WR-TIMEZONE:Asia/Tokyo
BEGIN:VEVENT
UID:18@osaka-kosodate-joto.net
DTSTART;TZID=Asia/Tokyo:20230323T000000
DTEND;TZID=Asia/Tokyo:20230323T000000
DTSTAMP:20230225T073102Z
URL:https://osaka-kosodate-joto.net/events/%ef%bc%93%e6%9c%88%e7%94%9f%e3%
 81%be%e3%82%8c%e3%81%ae%e3%81%8a%e3%81%9f%e3%82%93%e3%81%98%e3%82%87%e3%81
 %86%e8%a8%98%e5%bf%b5%e3%81%a6%e3%81%8c%e3%81%9f%e3%82%b9%e3%82%bf%e3%83%b
 3%e3%83%97/
SUMMARY:３月生まれのおたんじょう記念てがたスタンプ
DESCRIPTION:
CATEGORIES:乳幼児,保護者・支援者
LOCATION:城東区子ども・子育てプラザ\, 1-1-39\, 大阪市城東
 区今福西\, 大阪府\, 536-0004\, 日本
X-APPLE-STRUCTURED-LOCATION;VALUE=URI;X-ADDRESS=1-1-39\, 大阪市城東区
 今福西\, 大阪府\, 536-0004\, 日本;X-APPLE-RADIUS=100;X-TITLE=城
 東区子ども・子育てプラザ:geo:0,0
END:VEVENT
BEGIN:VTIMEZONE
TZID:Asia/Tokyo
X-LIC-LOCATION:Asia/Tokyo
BEGIN:STANDARD
DTSTART:20220323T000000
TZOFFSETFROM:+0900
TZOFFSETTO:+0900
TZNAME:JST
END:STANDARD
END:VTIMEZONE
END:VCALENDAR