BEGIN:VCALENDAR
VERSION:2.0
PRODID:-//wp-events-plugin.com//7.2.3.1//EN
TZID:Asia/Tokyo
X-WR-TIMEZONE:Asia/Tokyo
BEGIN:VEVENT
UID:482@osaka-kosodate-joto.net
DTSTART;TZID=Asia/Tokyo:20260501T103000
DTEND;TZID=Asia/Tokyo:20260501T113000
DTSTAMP:20260410T032237Z
URL:https://osaka-kosodate-joto.net/events/%e5%ad%90%e3%81%a9%e3%82%82%e3%
 81%ae%e6%97%a5%e3%81%ae%e3%81%a4%e3%81%a9%e3%81%84-3/
SUMMARY:子どもの日のつどい
DESCRIPTION:
ATTACH;FMTTYPE=image/jpeg:https://osaka-kosodate-joto.net/wp-content/uploa
 ds/2024/03/IMG_0501-scaled.jpg
CATEGORIES:乳幼児
LOCATION:城東区子ども・子育てプラザ\, 1-1-39\, 大阪市城東
 区今福西\, 大阪府\, 536-0004\, 日本
X-APPLE-STRUCTURED-LOCATION;VALUE=URI;X-ADDRESS=1-1-39\, 大阪市城東区
 今福西\, 大阪府\, 536-0004\, 日本;X-APPLE-RADIUS=100;X-TITLE=城
 東区子ども・子育てプラザ:geo:0,0
END:VEVENT
BEGIN:VTIMEZONE
TZID:Asia/Tokyo
X-LIC-LOCATION:Asia/Tokyo
BEGIN:STANDARD
DTSTART:20250501T103000
TZOFFSETFROM:+0900
TZOFFSETTO:+0900
TZNAME:JST
END:STANDARD
END:VTIMEZONE
END:VCALENDAR