BEGIN:VCALENDAR
VERSION:2.0
PRODID:-//wp-events-plugin.com//7.2.3.1//EN
TZID:Asia/Tokyo
X-WR-TIMEZONE:Asia/Tokyo
BEGIN:VEVENT
UID:8@osaka-kosodate-joto.net
DTSTART;TZID=Asia/Tokyo:20230217T190000
DTEND;TZID=Asia/Tokyo:20230217T200000
DTSTAMP:20230209T034426Z
URL:https://osaka-kosodate-joto.net/events/%e4%bb%a4%e5%92%8c%ef%bc%94%e5%
 b9%b4%e5%ba%a6-%e3%83%97%e3%83%ac%e3%83%9e%e3%83%9e%e3%83%bb%e3%83%97%e3%8
 3%ac%e3%83%91%e3%83%91%e8%ac%9b%e5%ba%a7-2/
SUMMARY:令和４年度 プレママ・プレパパ講座
DESCRIPTION:・
CATEGORIES:保護者・支援者
LOCATION:大阪市中央区子ども子育てプラザ\, 大阪市\, 中央
 区島之内2-12-6\, 大阪府\, 〒542-0082\, 大阪\, 日本
X-APPLE-STRUCTURED-LOCATION;VALUE=URI;X-ADDRESS=大阪市\, 中央区島之
 内2-12-6\, 大阪府\, 〒542-0082\, 大阪\, 日本;X-APPLE-RADIUS=100;X
 -TITLE=大阪市中央区子ども子育てプラザ:geo:0,0
END:VEVENT
BEGIN:VTIMEZONE
TZID:Asia/Tokyo
X-LIC-LOCATION:Asia/Tokyo
BEGIN:STANDARD
DTSTART:20220217T190000
TZOFFSETFROM:+0900
TZOFFSETTO:+0900
TZNAME:JST
END:STANDARD
END:VTIMEZONE
END:VCALENDAR