BEGIN:VCALENDAR
VERSION:2.0
PRODID:-//wp-events-plugin.com//7.2.3.1//EN
TZID:Asia/Tokyo
X-WR-TIMEZONE:Asia/Tokyo
BEGIN:VEVENT
UID:207@osaka-kosodate-joto.net
DTSTART;TZID=Asia/Tokyo:20240805T100000
DTEND;TZID=Asia/Tokyo:20240805T103000
DTSTAMP:20240719T003657Z
URL:https://osaka-kosodate-joto.net/events/%e3%83%90%e3%83%a9%e3%83%b3%e3%
 82%b9%e3%83%9c%e3%83%bc%e3%83%ab%e3%82%a8%e3%82%af%e3%82%b5%e3%82%b5%e3%82
 %a4%e3%82%ba%e3%80%90%e7%ac%ac%ef%bc%91%e9%83%a8%e3%80%91/
SUMMARY:バランスボールエクササイズ【第１部】
DESCRIPTION:
ATTACH;FMTTYPE=image/jpeg:https://osaka-kosodate-joto.net/wp-content/uploa
 ds/2024/07/バランスボールエクササイズ①.png
CATEGORIES:乳幼児,保護者・支援者
LOCATION:城東区子ども・子育てプラザ\, 1-1-39\, 大阪市城東
 区今福西\, 大阪府\, 536-0004\, 日本
X-APPLE-STRUCTURED-LOCATION;VALUE=URI;X-ADDRESS=1-1-39\, 大阪市城東区
 今福西\, 大阪府\, 536-0004\, 日本;X-APPLE-RADIUS=100;X-TITLE=城
 東区子ども・子育てプラザ:geo:0,0
END:VEVENT
BEGIN:VTIMEZONE
TZID:Asia/Tokyo
X-LIC-LOCATION:Asia/Tokyo
BEGIN:STANDARD
DTSTART:20230806T100000
TZOFFSETFROM:+0900
TZOFFSETTO:+0900
TZNAME:JST
END:STANDARD
END:VTIMEZONE
END:VCALENDAR