BEGIN:VCALENDAR
VERSION:2.0
PRODID:-//wp-events-plugin.com//7.2.3.1//EN
TZID:Asia/Tokyo
X-WR-TIMEZONE:Asia/Tokyo
BEGIN:VEVENT
UID:5@osaka-kosodate-joto.net
DTSTART;TZID=Asia/Tokyo:20230207T090000
DTEND;TZID=Asia/Tokyo:20230207T130000
DTSTAMP:20230206T092216Z
URL:https://osaka-kosodate-joto.net/events/%e3%83%86%e3%82%b9%e3%83%88%e6%
 8a%95%e7%a8%bf/
SUMMARY:テスト投稿
DESCRIPTION:
CATEGORIES:保護者・支援者
LOCATION:インテックス大阪\, １丁目５−１０２\, 大阪市住
 之江区南港北\, 大阪府\, 5590034\, 大阪\, 日本
X-APPLE-STRUCTURED-LOCATION;VALUE=URI;X-ADDRESS=１丁目５−１０２\, 
 大阪市住之江区南港北\, 大阪府\, 5590034\, 大阪\, 日本;X-A
 PPLE-RADIUS=100;X-TITLE=インテックス大阪:geo:0,0
END:VEVENT
BEGIN:VTIMEZONE
TZID:Asia/Tokyo
X-LIC-LOCATION:Asia/Tokyo
BEGIN:STANDARD
DTSTART:20220207T090000
TZOFFSETFROM:+0900
TZOFFSETTO:+0900
TZNAME:JST
END:STANDARD
END:VTIMEZONE
END:VCALENDAR