BEGIN:VCALENDAR
VERSION:2.0
PRODID:-//wp-events-plugin.com//7.2.3.1//EN
TZID:Asia/Tokyo
X-WR-TIMEZONE:Asia/Tokyo
BEGIN:VEVENT
UID:42@osaka-kosodate-joto.net
DTSTART;TZID=Asia/Tokyo:20230617T090000
DTEND;TZID=Asia/Tokyo:20230617T170000
DTSTAMP:20230617T045813Z
URL:https://osaka-kosodate-joto.net/events/%e3%80%90%e5%85%90%e7%ab%a5%e3%
 80%91%e3%83%9c%e3%83%88%e3%83%ab%e3%82%a2%e3%83%ac%e3%83%b3%e3%82%b8%e5%b7
 %a5%e4%bd%9c/
SUMMARY:【児童】ボトルアレンジ工作
DESCRIPTION:
ATTACH;FMTTYPE=image/jpeg:https://osaka-kosodate-joto.net/wp-content/uploa
 ds/2023/05/ボトルアレンジ工作.png
CATEGORIES:児童
LOCATION:城東区子ども・子育てプラザ\, 1-1-39\, 大阪市城東
 区今福西\, 大阪府\, 536-0004\, 日本
X-APPLE-STRUCTURED-LOCATION;VALUE=URI;X-ADDRESS=1-1-39\, 大阪市城東区
 今福西\, 大阪府\, 536-0004\, 日本;X-APPLE-RADIUS=100;X-TITLE=城
 東区子ども・子育てプラザ:geo:0,0
END:VEVENT
BEGIN:VTIMEZONE
TZID:Asia/Tokyo
X-LIC-LOCATION:Asia/Tokyo
BEGIN:STANDARD
DTSTART:20220617T090000
TZOFFSETFROM:+0900
TZOFFSETTO:+0900
TZNAME:JST
END:STANDARD
END:VTIMEZONE
END:VCALENDAR